Package: batchCorr Version: 1.1.0 Command: /home/biocbuild/bbs-3.23-bioc/R/bin/R CMD INSTALL batchCorr StartedAt: 2025-11-27 15:21:15 -0500 (Thu, 27 Nov 2025) EndedAt: 2025-11-27 15:21:35 -0500 (Thu, 27 Nov 2025) EllapsedTime: 20.5 seconds RetCode: 0 Status: OK