Package: batchCorr Version: 1.1.0 Command: /home/biocbuild/bbs-3.23-bioc/R/bin/R CMD build --keep-empty-dirs --no-resave-data batchCorr StartedAt: 2025-11-27 16:20:01 -0500 (Thu, 27 Nov 2025) EndedAt: 2025-11-27 16:22:11 -0500 (Thu, 27 Nov 2025) EllapsedTime: 130.1 seconds RetCode: 0 Status: OK PackageFile: batchCorr_1.1.0.tar.gz PackageFileSize: 900.6 KiB