Package: batchCorr Version: 1.1.0 Command: /Library/Frameworks/R.framework/Resources/bin/R CMD INSTALL batchCorr StartedAt: 2025-11-21 15:27:47 -0500 (Fri, 21 Nov 2025) EndedAt: 2025-11-21 15:28:16 -0500 (Fri, 21 Nov 2025) EllapsedTime: 29.1 seconds RetCode: 0 Status: OK