Package: batchCorr Version: 1.1.0 Command: /Library/Frameworks/R.framework/Resources/bin/R CMD build --keep-empty-dirs --no-resave-data batchCorr StartedAt: 2025-11-21 16:09:21 -0500 (Fri, 21 Nov 2025) EndedAt: 2025-11-21 16:11:51 -0500 (Fri, 21 Nov 2025) EllapsedTime: 150.7 seconds RetCode: 0 Status: OK PackageFile: batchCorr_1.1.0.tar.gz PackageFileSize: 900.5 KiB