Package: batchCorr Version: 1.1.0 Command: rm -rf batchCorr.buildbin-libdir && mkdir batchCorr.buildbin-libdir && /Users/biocbuild/BBS/utils/build-universal.sh batchCorr_1.1.0.tar.gz /Library/Frameworks/R.framework/Resources/bin/R batchCorr.buildbin-libdir StartedAt: 2025-11-22 01:22:59 -0500 (Sat, 22 Nov 2025) EndedAt: 2025-11-22 01:23:31 -0500 (Sat, 22 Nov 2025) EllapsedTime: 32.3 seconds RetCode: 0 Status: OK PackageFile: batchCorr_1.1.0.tgz PackageFileSize: 976.4 KiB