Package: batchCorr Version: 1.1.0 Command: /Library/Frameworks/R.framework/Resources/bin/R CMD INSTALL batchCorr StartedAt: 2025-11-14 15:14:24 -0500 (Fri, 14 Nov 2025) EndedAt: 2025-11-14 15:14:33 -0500 (Fri, 14 Nov 2025) EllapsedTime: 8.5 seconds RetCode: 0 Status: OK