Package: batchCorr Version: 1.1.0 Command: /Library/Frameworks/R.framework/Resources/bin/R CMD build --keep-empty-dirs --no-resave-data batchCorr StartedAt: 2025-11-14 15:42:11 -0500 (Fri, 14 Nov 2025) EndedAt: 2025-11-14 15:43:02 -0500 (Fri, 14 Nov 2025) EllapsedTime: 51.5 seconds RetCode: 0 Status: OK PackageFile: batchCorr_1.1.0.tar.gz PackageFileSize: 900.7 KiB