Package: basilisk Version: 1.23.0 Command: /home/biocbuild/bbs-3.23-bioc/R/bin/R CMD INSTALL basilisk StartedAt: 2025-11-07 15:11:22 -0500 (Fri, 07 Nov 2025) EndedAt: 2025-11-07 15:11:31 -0500 (Fri, 07 Nov 2025) EllapsedTime: 8.8 seconds RetCode: 0 Status: OK