Package: basilisk.utils Version: 1.23.1 Command: /home/biocbuild/bbs-3.23-bioc/R/bin/R CMD INSTALL basilisk.utils StartedAt: 2025-11-13 15:04:25 -0500 (Thu, 13 Nov 2025) EndedAt: 2025-11-13 15:04:35 -0500 (Thu, 13 Nov 2025) EllapsedTime: 9.9 seconds RetCode: 0 Status: OK