Package: basilisk.utils Version: 1.23.1 Command: /home/biocbuild/bbs-3.23-bioc/R/bin/R CMD build --keep-empty-dirs --no-resave-data basilisk.utils StartedAt: 2025-11-13 16:19:56 -0500 (Thu, 13 Nov 2025) EndedAt: 2025-11-13 16:20:00 -0500 (Thu, 13 Nov 2025) EllapsedTime: 4.0 seconds RetCode: 0 Status: OK PackageFile: basilisk.utils_1.23.1.tar.gz PackageFileSize: 229.6 KiB