Package: arrayQualityMetrics Version: 3.65.0 Command: /home/biocbuild/R/R/bin/R CMD INSTALL arrayQualityMetrics StartedAt: 2025-10-02 20:53:21 -0000 (Thu, 02 Oct 2025) EndedAt: 2025-10-02 20:53:54 -0000 (Thu, 02 Oct 2025) EllapsedTime: 33.1 seconds RetCode: 0 Status: OK