Package: arrayQualityMetrics Version: 3.65.0 Command: /home/biocbuild/R/R/bin/R CMD build --keep-empty-dirs --no-resave-data arrayQualityMetrics StartedAt: 2025-10-02 21:49:21 -0000 (Thu, 02 Oct 2025) EndedAt: 2025-10-02 21:57:27 -0000 (Thu, 02 Oct 2025) EllapsedTime: 486.1 seconds RetCode: 0 Status: OK PackageFile: arrayQualityMetrics_3.65.0.tar.gz PackageFileSize: 583.2 KiB