Package: arrayQualityMetrics Version: 3.67.0 Command: /home/biocbuild/bbs-3.23-bioc/R/bin/R CMD build --keep-empty-dirs --no-resave-data arrayQualityMetrics StartedAt: 2025-11-13 16:13:08 -0500 (Thu, 13 Nov 2025) EndedAt: 2025-11-13 16:19:48 -0500 (Thu, 13 Nov 2025) EllapsedTime: 399.4 seconds RetCode: 0 Status: OK PackageFile: arrayQualityMetrics_3.67.0.tar.gz PackageFileSize: 597.4 KiB