Package: arrayQuality Version: 1.89.0 Command: /home/biocbuild/bbs-3.23-bioc/R/bin/R CMD INSTALL arrayQuality StartedAt: 2025-11-06 15:03:42 -0500 (Thu, 06 Nov 2025) EndedAt: 2025-11-06 15:04:01 -0500 (Thu, 06 Nov 2025) EllapsedTime: 18.3 seconds RetCode: 0 Status: OK