Package: arrayMvout Version: 1.69.0 Command: /home/biocbuild/bbs-3.23-bioc/R/bin/R CMD INSTALL arrayMvout StartedAt: 2025-11-13 16:01:28 -0500 (Thu, 13 Nov 2025) EndedAt: 2025-11-13 16:02:12 -0500 (Thu, 13 Nov 2025) EllapsedTime: 44.1 seconds RetCode: 0 Status: OK