Package: arrayMvout Version: 1.69.0 Command: /home/biocbuild/bbs-3.23-bioc/R/bin/R CMD build --keep-empty-dirs --no-resave-data arrayMvout StartedAt: 2025-11-13 16:12:46 -0500 (Thu, 13 Nov 2025) EndedAt: 2025-11-13 16:13:51 -0500 (Thu, 13 Nov 2025) EllapsedTime: 65.0 seconds RetCode: 0 Status: OK PackageFile: arrayMvout_1.69.0.tar.gz PackageFileSize: 693 KiB