Package: apeglm Version: 1.31.0 Command: /home/biocbuild/bbs-3.22-bioc/R/bin/R CMD INSTALL apeglm StartedAt: 2025-09-30 15:30:05 -0400 (Tue, 30 Sep 2025) EndedAt: 2025-09-30 15:31:02 -0400 (Tue, 30 Sep 2025) EllapsedTime: 56.7 seconds RetCode: 0 Status: OK