Package: apeglm Version: 1.31.0 Command: /home/biocbuild/bbs-3.22-bioc/R/bin/R CMD build --keep-empty-dirs --no-resave-data --md5 apeglm StartedAt: 2025-10-02 16:13:46 -0400 (Thu, 02 Oct 2025) EndedAt: 2025-10-02 16:15:29 -0400 (Thu, 02 Oct 2025) EllapsedTime: 103.1 seconds RetCode: 0 Status: OK PackageFile: apeglm_1.31.0.tar.gz PackageFileSize: 1.205 MiB