Package: apComplex Version: 2.77.0 Command: /Library/Frameworks/R.framework/Resources/bin/R CMD build --keep-empty-dirs --no-resave-data apComplex StartedAt: 2025-11-27 16:03:57 -0500 (Thu, 27 Nov 2025) EndedAt: 2025-11-27 16:04:26 -0500 (Thu, 27 Nov 2025) EllapsedTime: 28.7 seconds RetCode: 0 Status: OK PackageFile: apComplex_2.77.0.tar.gz PackageFileSize: 626.6 KiB