Package: apComplex Version: 2.77.0 Command: /Library/Frameworks/R.framework/Resources/bin/R CMD INSTALL apComplex StartedAt: 2025-11-17 15:09:55 -0500 (Mon, 17 Nov 2025) EndedAt: 2025-11-17 15:10:01 -0500 (Mon, 17 Nov 2025) EllapsedTime: 5.7 seconds RetCode: 0 Status: OK