Package: annotatr Version: 1.35.1 Command: /Library/Frameworks/R.framework/Resources/bin/R CMD INSTALL annotatr StartedAt: 2025-10-03 15:35:57 -0400 (Fri, 03 Oct 2025) EndedAt: 2025-10-03 15:36:55 -0400 (Fri, 03 Oct 2025) EllapsedTime: 57.8 seconds RetCode: 0 Status: OK