Package: annotatr Version: 1.35.1 Command: /Library/Frameworks/R.framework/Resources/bin/R CMD build --keep-empty-dirs --no-resave-data annotatr StartedAt: 2025-10-03 16:00:17 -0400 (Fri, 03 Oct 2025) EndedAt: 2025-10-03 16:02:32 -0400 (Fri, 03 Oct 2025) EllapsedTime: 135.0 seconds RetCode: 0 Status: OK PackageFile: annotatr_1.35.1.tar.gz PackageFileSize: 2.454 MiB