Package: annotatr Version: 1.35.1 Command: rm -rf annotatr.buildbin-libdir && mkdir annotatr.buildbin-libdir && /Users/biocbuild/BBS/utils/build-universal.sh annotatr_1.35.1.tar.gz /Library/Frameworks/R.framework/Resources/bin/R annotatr.buildbin-libdir StartedAt: 2025-10-04 01:52:46 -0400 (Sat, 04 Oct 2025) EndedAt: 2025-10-04 01:53:47 -0400 (Sat, 04 Oct 2025) EllapsedTime: 61.2 seconds RetCode: 0 Status: OK PackageFile: annotatr_1.35.1.tgz PackageFileSize: 2.678 MiB