Package: annotatr Version: 1.35.1 Command: /Library/Frameworks/R.framework/Resources/bin/R CMD INSTALL annotatr StartedAt: 2025-10-02 15:22:03 -0400 (Thu, 02 Oct 2025) EndedAt: 2025-10-02 15:22:20 -0400 (Thu, 02 Oct 2025) EllapsedTime: 17.1 seconds RetCode: 0 Status: OK