Package: annotatr Version: 1.35.1 Command: /Library/Frameworks/R.framework/Resources/bin/R CMD build --keep-empty-dirs --no-resave-data annotatr StartedAt: 2025-10-01 15:38:22 -0400 (Wed, 01 Oct 2025) EndedAt: 2025-10-01 15:39:10 -0400 (Wed, 01 Oct 2025) EllapsedTime: 47.5 seconds RetCode: 0 Status: OK PackageFile: annotatr_1.35.1.tar.gz PackageFileSize: 2.456 MiB