Package: annotatr Version: 1.35.1 Command: rm -rf annotatr.buildbin-libdir && mkdir annotatr.buildbin-libdir && /Users/biocbuild/BBS/utils/build-universal.sh annotatr_1.35.1.tar.gz /Library/Frameworks/R.framework/Resources/bin/R annotatr.buildbin-libdir StartedAt: 2025-10-02 22:55:00 -0400 (Thu, 02 Oct 2025) EndedAt: 2025-10-02 22:55:18 -0400 (Thu, 02 Oct 2025) EllapsedTime: 18.4 seconds RetCode: 0 Status: OK PackageFile: annotatr_1.35.1.tgz PackageFileSize: 2.681 MiB