Package: annotate Version: 1.89.0 Command: /home/biocbuild/bbs-3.23-bioc/R/bin/R CMD INSTALL annotate StartedAt: 2025-11-06 15:26:42 -0500 (Thu, 06 Nov 2025) EndedAt: 2025-11-06 15:26:59 -0500 (Thu, 06 Nov 2025) EllapsedTime: 17.0 seconds RetCode: 0 Status: OK