Package: annotate Version: 1.89.0 Command: /home/biocbuild/bbs-3.23-bioc/R/bin/R CMD build --keep-empty-dirs --no-resave-data annotate StartedAt: 2025-11-06 16:10:21 -0500 (Thu, 06 Nov 2025) EndedAt: 2025-11-06 16:11:25 -0500 (Thu, 06 Nov 2025) EllapsedTime: 64.1 seconds RetCode: 0 Status: OK PackageFile: annotate_1.89.0.tar.gz PackageFileSize: 1.786 MiB