Package: alabaster.string Version: 1.9.0 Command: /home/biocbuild/bbs-3.22-bioc/R/bin/R CMD INSTALL alabaster.string StartedAt: 2025-10-08 16:16:33 -0400 (Wed, 08 Oct 2025) EndedAt: 2025-10-08 16:16:48 -0400 (Wed, 08 Oct 2025) EllapsedTime: 15.3 seconds RetCode: 0 Status: OK