Package: alabaster.spatial Version: 1.9.0 Command: /home/biocbuild/bbs-3.22-bioc/R/bin/R CMD INSTALL alabaster.spatial StartedAt: 2025-10-02 15:37:40 -0400 (Thu, 02 Oct 2025) EndedAt: 2025-10-02 15:38:09 -0400 (Thu, 02 Oct 2025) EllapsedTime: 29.7 seconds RetCode: 0 Status: OK