Package: alabaster.spatial Version: 1.9.0 Command: /home/biocbuild/bbs-3.22-bioc/R/bin/R CMD build --keep-empty-dirs --no-resave-data --md5 alabaster.spatial StartedAt: 2025-10-02 16:11:12 -0400 (Thu, 02 Oct 2025) EndedAt: 2025-10-02 16:11:57 -0400 (Thu, 02 Oct 2025) EllapsedTime: 45.1 seconds RetCode: 0 Status: OK PackageFile: alabaster.spatial_1.9.0.tar.gz PackageFileSize: 629.3 KiB