Package: alabaster.bumpy Version: 1.9.1 Command: /home/biocbuild/bbs-3.22-bioc/R/bin/R CMD INSTALL alabaster.bumpy StartedAt: 2025-10-03 15:23:30 -0400 (Fri, 03 Oct 2025) EndedAt: 2025-10-03 15:23:42 -0400 (Fri, 03 Oct 2025) EllapsedTime: 11.8 seconds RetCode: 0 Status: OK