Package: alabaster.base Version: 1.9.5 Command: /home/biocbuild/bbs-3.22-bioc/R/bin/R CMD INSTALL alabaster.base StartedAt: 2025-10-06 15:13:31 -0400 (Mon, 06 Oct 2025) EndedAt: 2025-10-06 15:14:55 -0400 (Mon, 06 Oct 2025) EllapsedTime: 83.4 seconds RetCode: 0 Status: OK