Back to Build/check report for BioC 3.23:   simplified   long
[A]BCDEFGHIJKLMNOPQRSTUVWXYZ

This page was generated on 2025-11-07 11:32 -0500 (Fri, 07 Nov 2025).

HostnameOSArch (*)R versionInstalled pkgs
nebbiolo1Linux (Ubuntu 24.04.3 LTS)x86_64R Under development (unstable) (2025-10-20 r88955) -- "Unsuffered Consequences" 4818
Click on any hostname to see more info about the system (e.g. compilers)      (*) as reported by 'uname -p', except on Windows and Mac OS X

All results for package alabaster.base


To the developers/maintainers of the alabaster.base package:
- Allow up to 24 hours (and sometimes 48 hours) for your latest push to git@git.bioconductor.org:packages/alabaster.base.git to reflect on this report. See Troubleshooting Build Report for more information.
- Use the following Renviron settings to reproduce errors and warnings.
- If 'R CMD check' started to fail recently on the Linux builder(s) over a missing dependency, add the missing dependency to 'Suggests:' in your DESCRIPTION file. See Renviron.bioc for more information.

raw results

Package 41/2323HostnameOS / ArchINSTALLBUILDCHECKBUILD BIN
alabaster.base 1.11.1  (landing page)
Aaron Lun
Snapshot Date: 2025-11-06 13:40 -0500 (Thu, 06 Nov 2025)
git_url: https://git.bioconductor.org/packages/alabaster.base
git_branch: devel
git_last_commit: 1d97e98
git_last_commit_date: 2025-11-03 02:55:31 -0500 (Mon, 03 Nov 2025)
nebbiolo1Linux (Ubuntu 24.04.3 LTS) / x86_64  OK    OK    WARNINGS  UNNEEDED, same version is already published



Results for Bioconductor software packages that depend directly on package alabaster.base

QUICK STATSOS / ArchINSTALLBUILDCHECKBUILD BIN
nebbiolo1Linux (Ubuntu 24.04.3 LTS) / x86_64
0013
0013
00013
Package 1/13HostnameOS / ArchINSTALLBUILDCHECKBUILD BIN
alabaster 1.11.0  (landing page)
Aaron Lun
git_last_commit: 5b636ef
git_last_commit_date: 2025-10-29 11:21:34 -0500
nebbiolo1Linux (Ubuntu 24.04.3 LTS) / x86_64  OK    OK    OK  UNNEEDED, same version is already published
Package 2/13HostnameOS / ArchINSTALLBUILDCHECKBUILD BIN
alabaster.bumpy 1.11.0  (landing page)
Aaron Lun
git_last_commit: 08f8924
git_last_commit_date: 2025-10-29 11:21:24 -0500
nebbiolo1Linux (Ubuntu 24.04.3 LTS) / x86_64  OK    OK    OK  UNNEEDED, same version is already published
Package 3/13HostnameOS / ArchINSTALLBUILDCHECKBUILD BIN
alabaster.files 1.9.0  (landing page)
Aaron Lun
git_last_commit: 32a02ee
git_last_commit_date: 2025-10-29 11:24:01 -0500
nebbiolo1Linux (Ubuntu 24.04.3 LTS) / x86_64  OK    OK    OK  UNNEEDED, same version is already published
Package 4/13HostnameOS / ArchINSTALLBUILDCHECKBUILD BIN
alabaster.mae 1.11.0  (landing page)
Aaron Lun
git_last_commit: f3f563c
git_last_commit_date: 2025-10-29 11:21:27 -0500
nebbiolo1Linux (Ubuntu 24.04.3 LTS) / x86_64  OK    OK    OK  UNNEEDED, same version is already published
Package 5/13HostnameOS / ArchINSTALLBUILDCHECKBUILD BIN
alabaster.matrix 1.11.0  (landing page)
Aaron Lun
git_last_commit: c5028de
git_last_commit_date: 2025-10-29 11:21:14 -0500
nebbiolo1Linux (Ubuntu 24.04.3 LTS) / x86_64  OK    OK    OK  UNNEEDED, same version is already published
Package 6/13HostnameOS / ArchINSTALLBUILDCHECKBUILD BIN
alabaster.ranges 1.11.0  (landing page)
Aaron Lun
git_last_commit: 283afd5
git_last_commit_date: 2025-10-29 11:21:11 -0500
nebbiolo1Linux (Ubuntu 24.04.3 LTS) / x86_64  OK    OK    OK  UNNEEDED, same version is already published
Package 7/13HostnameOS / ArchINSTALLBUILDCHECKBUILD BIN
alabaster.sce 1.11.0  (landing page)
Aaron Lun
git_last_commit: 97c7aa5
git_last_commit_date: 2025-10-29 11:21:19 -0500
nebbiolo1Linux (Ubuntu 24.04.3 LTS) / x86_64  OK    OK    OK  UNNEEDED, same version is already published
Package 8/13HostnameOS / ArchINSTALLBUILDCHECKBUILD BIN
alabaster.se 1.11.0  (landing page)
Aaron Lun
git_last_commit: 6b3a91e
git_last_commit_date: 2025-10-29 11:21:17 -0500
nebbiolo1Linux (Ubuntu 24.04.3 LTS) / x86_64  OK    OK    OK  UNNEEDED, same version is already published
Package 9/13HostnameOS / ArchINSTALLBUILDCHECKBUILD BIN
alabaster.sfe 1.3.0  (landing page)
Lambda Moses
git_last_commit: a71e5d5
git_last_commit_date: 2025-10-29 11:35:08 -0500
nebbiolo1Linux (Ubuntu 24.04.3 LTS) / x86_64  OK    OK    OK  NO, package depends on 'SpatialFeatureExperiment' which is not available
Package 10/13HostnameOS / ArchINSTALLBUILDCHECKBUILD BIN
alabaster.spatial 1.11.0  (landing page)
Aaron Lun
git_last_commit: 05db641
git_last_commit_date: 2025-10-29 11:21:22 -0500
nebbiolo1Linux (Ubuntu 24.04.3 LTS) / x86_64  OK    OK    OK  UNNEEDED, same version is already published
Package 11/13HostnameOS / ArchINSTALLBUILDCHECKBUILD BIN
alabaster.string 1.11.0  (landing page)
Aaron Lun
git_last_commit: d83f418
git_last_commit_date: 2025-10-29 11:21:29 -0500
nebbiolo1Linux (Ubuntu 24.04.3 LTS) / x86_64  OK    OK    OK  UNNEEDED, same version is already published
Package 12/13HostnameOS / ArchINSTALLBUILDCHECKBUILD BIN
alabaster.vcf 1.11.0  (landing page)
Aaron Lun
git_last_commit: 53827bc
git_last_commit_date: 2025-10-29 11:21:32 -0500
nebbiolo1Linux (Ubuntu 24.04.3 LTS) / x86_64  OK    OK    OK  UNNEEDED, same version is already published
Package 13/13HostnameOS / ArchINSTALLBUILDCHECKBUILD BIN
chevreulShiny 1.3.0  (landing page)
Kevin Stachelek
git_last_commit: 7845161
git_last_commit_date: 2025-10-29 11:34:20 -0500
nebbiolo1Linux (Ubuntu 24.04.3 LTS) / x86_64  OK    OK    OK  NO, package depends on 'EnhancedVolcano' which is not available