Package: aggregateBioVar Version: 1.21.0 Command: /home/biocbuild/bbs-3.23-bioc/R/bin/R CMD INSTALL aggregateBioVar StartedAt: 2025-11-09 15:19:08 -0500 (Sun, 09 Nov 2025) EndedAt: 2025-11-09 15:19:29 -0500 (Sun, 09 Nov 2025) EllapsedTime: 21.1 seconds RetCode: 0 Status: OK