Package: aggregateBioVar Version: 1.19.1 Command: /Library/Frameworks/R.framework/Resources/bin/R CMD INSTALL aggregateBioVar StartedAt: 2025-10-22 15:21:23 -0400 (Wed, 22 Oct 2025) EndedAt: 2025-10-22 15:21:52 -0400 (Wed, 22 Oct 2025) EllapsedTime: 29.4 seconds RetCode: 0 Status: OK