Package: aggregateBioVar Version: 1.19.1 Command: /Library/Frameworks/R.framework/Resources/bin/R CMD build --keep-empty-dirs --no-resave-data aggregateBioVar StartedAt: 2025-10-22 15:58:38 -0400 (Wed, 22 Oct 2025) EndedAt: 2025-10-22 16:00:13 -0400 (Wed, 22 Oct 2025) EllapsedTime: 95.1 seconds RetCode: 0 Status: OK PackageFile: aggregateBioVar_1.19.1.tar.gz PackageFileSize: 1.257 MiB