Package: aggregateBioVar Version: 1.19.1 Command: rm -rf aggregateBioVar.buildbin-libdir && mkdir aggregateBioVar.buildbin-libdir && /Users/biocbuild/BBS/utils/build-universal.sh aggregateBioVar_1.19.1.tar.gz /Library/Frameworks/R.framework/Resources/bin/R aggregateBioVar.buildbin-libdir StartedAt: 2025-10-24 01:21:11 -0400 (Fri, 24 Oct 2025) EndedAt: 2025-10-24 01:21:49 -0400 (Fri, 24 Oct 2025) EllapsedTime: 38.0 seconds RetCode: 0 Status: OK PackageFile: aggregateBioVar_1.19.1.tgz PackageFileSize: 1.706 MiB