Package: aggregateBioVar Version: 1.19.0 Command: /Library/Frameworks/R.framework/Resources/bin/R CMD INSTALL aggregateBioVar StartedAt: 2025-10-07 15:12:19 -0400 (Tue, 07 Oct 2025) EndedAt: 2025-10-07 15:12:29 -0400 (Tue, 07 Oct 2025) EllapsedTime: 9.5 seconds RetCode: 0 Status: OK