Package: aggregateBioVar Version: 1.19.0 Command: /Library/Frameworks/R.framework/Resources/bin/R CMD build --keep-empty-dirs --no-resave-data aggregateBioVar StartedAt: 2025-10-07 15:35:49 -0400 (Tue, 07 Oct 2025) EndedAt: 2025-10-07 15:36:22 -0400 (Tue, 07 Oct 2025) EllapsedTime: 32.3 seconds RetCode: 0 Status: OK PackageFile: aggregateBioVar_1.19.0.tar.gz PackageFileSize: 1.216 MiB