Package: aggregateBioVar Version: 1.19.0 Command: rm -rf aggregateBioVar.buildbin-libdir && mkdir aggregateBioVar.buildbin-libdir && /Users/biocbuild/BBS/utils/build-universal.sh aggregateBioVar_1.19.0.tar.gz /Library/Frameworks/R.framework/Resources/bin/R aggregateBioVar.buildbin-libdir StartedAt: 2025-10-07 22:36:01 -0400 (Tue, 07 Oct 2025) EndedAt: 2025-10-07 22:36:11 -0400 (Tue, 07 Oct 2025) EllapsedTime: 10.2 seconds RetCode: 0 Status: OK PackageFile: aggregateBioVar_1.19.0.tgz PackageFileSize: 1.706 MiB