Package: adSplit Version: 1.79.0 Command: /home/biocbuild/bbs-3.22-bioc/R/bin/R CMD INSTALL adSplit StartedAt: 2025-10-21 15:40:53 -0400 (Tue, 21 Oct 2025) EndedAt: 2025-10-21 15:41:08 -0400 (Tue, 21 Oct 2025) EllapsedTime: 15.7 seconds RetCode: 0 Status: OK