Package: adSplit Version: 1.79.0 Command: /home/biocbuild/bbs-3.22-bioc/R/bin/R CMD build --keep-empty-dirs --no-resave-data --md5 adSplit StartedAt: 2025-10-21 16:10:55 -0400 (Tue, 21 Oct 2025) EndedAt: 2025-10-21 16:12:45 -0400 (Tue, 21 Oct 2025) EllapsedTime: 110.1 seconds RetCode: 0 Status: OK PackageFile: adSplit_1.79.0.tar.gz PackageFileSize: 537.9 KiB