Package: a4Core Version: 1.59.0 Command: /Library/Frameworks/R.framework/Resources/bin/R CMD INSTALL a4Core StartedAt: 2025-11-25 15:07:34 -0500 (Tue, 25 Nov 2025) EndedAt: 2025-11-25 15:07:38 -0500 (Tue, 25 Nov 2025) EllapsedTime: 3.6 seconds RetCode: 0 Status: OK