Package: a4Classif Version: 1.57.0 Command: /home/biocbuild/bbs-3.22-bioc/R/bin/R CMD INSTALL a4Classif StartedAt: 2025-10-05 15:12:49 -0400 (Sun, 05 Oct 2025) EndedAt: 2025-10-05 15:12:55 -0400 (Sun, 05 Oct 2025) EllapsedTime: 6.2 seconds RetCode: 0 Status: OK