Package: a4Classif Version: 1.57.0 Command: /home/biocbuild/bbs-3.22-bioc/R/bin/R CMD build --keep-empty-dirs --no-resave-data --md5 a4Classif StartedAt: 2025-10-03 16:06:18 -0400 (Fri, 03 Oct 2025) EndedAt: 2025-10-03 16:06:45 -0400 (Fri, 03 Oct 2025) EllapsedTime: 27.0 seconds RetCode: 0 Status: OK PackageFile: a4Classif_1.57.0.tar.gz PackageFileSize: 606.5 KiB