Package: a4Base Version: 1.57.0 Command: /home/biocbuild/bbs-3.22-bioc/R/bin/R CMD INSTALL a4Base StartedAt: 2025-10-10 16:02:10 -0400 (Fri, 10 Oct 2025) EndedAt: 2025-10-10 16:02:31 -0400 (Fri, 10 Oct 2025) EllapsedTime: 20.9 seconds RetCode: 0 Status: OK