Package: a4Base Version: 1.59.0 Command: /Library/Frameworks/R.framework/Resources/bin/R CMD INSTALL a4Base StartedAt: 2025-11-21 15:45:03 -0500 (Fri, 21 Nov 2025) EndedAt: 2025-11-21 15:45:32 -0500 (Fri, 21 Nov 2025) EllapsedTime: 28.9 seconds RetCode: 0 Status: OK