Package: a4Base Version: 1.59.0 Command: /Library/Frameworks/R.framework/Resources/bin/R CMD INSTALL a4Base StartedAt: 2025-11-14 15:25:54 -0500 (Fri, 14 Nov 2025) EndedAt: 2025-11-14 15:26:03 -0500 (Fri, 14 Nov 2025) EllapsedTime: 8.3 seconds RetCode: 0 Status: OK