Package: XeniumIO Version: 1.3.0 Command: /Library/Frameworks/R.framework/Resources/bin/R CMD INSTALL XeniumIO StartedAt: 2025-11-17 15:15:45 -0500 (Mon, 17 Nov 2025) EndedAt: 2025-11-17 15:15:55 -0500 (Mon, 17 Nov 2025) EllapsedTime: 10.1 seconds RetCode: 0 Status: OK